Package: BgeeCall Version: 1.25.0 Command: /Library/Frameworks/R.framework/Resources/bin/R CMD build --keep-empty-dirs --no-resave-data BgeeCall StartedAt: 2025-10-12 16:09:32 -0400 (Sun, 12 Oct 2025) EndedAt: 2025-10-12 16:11:48 -0400 (Sun, 12 Oct 2025) EllapsedTime: 136.4 seconds RetCode: 0 Status: OK PackageFile: BgeeCall_1.25.0.tar.gz PackageFileSize: 5.678 MiB