Package: BeadDataPackR Version: 1.61.0 Command: /home/biocbuild/R/R/bin/R CMD INSTALL BeadDataPackR StartedAt: 2025-09-29 20:34:42 -0000 (Mon, 29 Sep 2025) EndedAt: 2025-09-29 20:35:45 -0000 (Mon, 29 Sep 2025) EllapsedTime: 63.3 seconds RetCode: 0 Status: OK