Package: BeadDataPackR Version: 1.61.0 Command: /home/biocbuild/R/R/bin/R CMD build --keep-empty-dirs --no-resave-data BeadDataPackR StartedAt: 2025-09-29 22:18:54 -0000 (Mon, 29 Sep 2025) EndedAt: 2025-09-29 22:19:01 -0000 (Mon, 29 Sep 2025) EllapsedTime: 7.0 seconds RetCode: 0 Status: OK PackageFile: BeadDataPackR_1.61.0.tar.gz PackageFileSize: 229.7 KiB