Package: BeadDataPackR Version: 1.61.0 Command: F:\biocbuild\bbs-3.22-bioc\R\bin\R.exe CMD INSTALL BeadDataPackR StartedAt: 2025-08-14 15:23:42 -0400 (Thu, 14 Aug 2025) EndedAt: 2025-08-14 15:24:36 -0400 (Thu, 14 Aug 2025) EllapsedTime: 54.0 seconds RetCode: 0 Status: OK