Package: BeadDataPackR Version: 1.61.0 Command: chmod a+r BeadDataPackR -R && F:\biocbuild\bbs-3.22-bioc\R\bin\R.exe CMD build --keep-empty-dirs --no-resave-data BeadDataPackR StartedAt: 2025-08-14 18:37:19 -0400 (Thu, 14 Aug 2025) EndedAt: 2025-08-14 18:37:34 -0400 (Thu, 14 Aug 2025) EllapsedTime: 15.0 seconds RetCode: 0 Status: OK PackageFile: BeadDataPackR_1.61.0.tar.gz PackageFileSize: 235.9 KiB