Package: BeadDataPackR Version: 1.63.0 Command: /home/biocbuild/bbs-3.23-bioc/R/bin/R CMD INSTALL BeadDataPackR StartedAt: 2025-11-20 15:05:23 -0500 (Thu, 20 Nov 2025) EndedAt: 2025-11-20 15:06:01 -0500 (Thu, 20 Nov 2025) EllapsedTime: 38.3 seconds RetCode: 0 Status: OK