Package: BeadDataPackR Version: 1.63.0 Command: /home/biocbuild/bbs-3.23-bioc/R/bin/R CMD check --install=check:BeadDataPackR.install-out.txt --library=/home/biocbuild/bbs-3.23-bioc/R/site-library --timings BeadDataPackR_1.63.0.tar.gz StartedAt: 2025-11-20 21:23:00 -0500 (Thu, 20 Nov 2025) EndedAt: 2025-11-20 21:23:20 -0500 (Thu, 20 Nov 2025) EllapsedTime: 20.0 seconds RetCode: 0 Status: OK CheckDir: BeadDataPackR.Rcheck Warnings: 0