Package: BeadDataPackR Version: 1.63.0 Command: /home/biocbuild/bbs-3.23-bioc/R/bin/R CMD build --keep-empty-dirs --no-resave-data BeadDataPackR StartedAt: 2025-11-20 16:23:47 -0500 (Thu, 20 Nov 2025) EndedAt: 2025-11-20 16:23:53 -0500 (Thu, 20 Nov 2025) EllapsedTime: 6.0 seconds RetCode: 0 Status: OK PackageFile: BeadDataPackR_1.63.0.tar.gz PackageFileSize: 235.8 KiB