Package: BayesSpace Version: 1.21.0 Command: /home/biocbuild/bbs-3.23-bioc/R/bin/R CMD INSTALL BayesSpace StartedAt: 2025-11-20 15:55:40 -0500 (Thu, 20 Nov 2025) EndedAt: 2025-11-20 15:56:51 -0500 (Thu, 20 Nov 2025) EllapsedTime: 70.9 seconds RetCode: 0 Status: OK