Package: BayesSpace Version: 1.21.0 Command: /home/biocbuild/bbs-3.23-bioc/R/bin/R CMD build --keep-empty-dirs --no-resave-data BayesSpace StartedAt: 2025-11-20 16:21:12 -0500 (Thu, 20 Nov 2025) EndedAt: 2025-11-20 16:23:47 -0500 (Thu, 20 Nov 2025) EllapsedTime: 154.1 seconds RetCode: 0 Status: OK PackageFile: BayesSpace_1.21.0.tar.gz PackageFileSize: 3.071 MiB