Package: BayesSpace Version: 1.19.5 Command: /Library/Frameworks/R.framework/Resources/bin/R CMD INSTALL BayesSpace StartedAt: 2025-10-16 16:17:16 -0400 (Thu, 16 Oct 2025) EndedAt: 2025-10-16 16:18:45 -0400 (Thu, 16 Oct 2025) EllapsedTime: 89.2 seconds RetCode: 0 Status: OK