Package: BayesSpace Version: 1.19.5 Command: /Library/Frameworks/R.framework/Resources/bin/R CMD build --keep-empty-dirs --no-resave-data BayesSpace StartedAt: 2025-10-16 16:33:21 -0400 (Thu, 16 Oct 2025) EndedAt: 2025-10-16 16:37:32 -0400 (Thu, 16 Oct 2025) EllapsedTime: 250.5 seconds RetCode: 0 Status: OK PackageFile: BayesSpace_1.19.5.tar.gz PackageFileSize: 3.476 MiB