Package: BayesSpace Version: 1.19.4 Command: /Library/Frameworks/R.framework/Resources/bin/R CMD INSTALL BayesSpace StartedAt: 2025-10-07 15:30:22 -0400 (Tue, 07 Oct 2025) EndedAt: 2025-10-07 15:30:46 -0400 (Tue, 07 Oct 2025) EllapsedTime: 23.9 seconds RetCode: 0 Status: OK