Package: BayesSpace Version: 1.19.4 Command: /Library/Frameworks/R.framework/Resources/bin/R CMD build --keep-empty-dirs --no-resave-data BayesSpace StartedAt: 2025-10-07 15:42:40 -0400 (Tue, 07 Oct 2025) EndedAt: 2025-10-07 15:43:41 -0400 (Tue, 07 Oct 2025) EllapsedTime: 61.7 seconds RetCode: 0 Status: OK PackageFile: BayesSpace_1.19.4.tar.gz PackageFileSize: 3.475 MiB