Package: BayesSpace Version: 1.19.4 Command: rm -rf BayesSpace.buildbin-libdir && mkdir BayesSpace.buildbin-libdir && /Users/biocbuild/BBS/utils/build-universal.sh BayesSpace_1.19.4.tar.gz /Library/Frameworks/R.framework/Resources/bin/R BayesSpace.buildbin-libdir StartedAt: 2025-10-07 22:37:22 -0400 (Tue, 07 Oct 2025) EndedAt: 2025-10-07 22:37:48 -0400 (Tue, 07 Oct 2025) EllapsedTime: 26.5 seconds RetCode: 0 Status: OK PackageFile: BayesSpace_1.19.4.tgz PackageFileSize: 3.772 MiB