Package: BayesSpace Version: 1.21.0 Maintainer: Senbai Kang MaintainerEmail: senbai.kang at chuv.ch git_url: https://git.bioconductor.org/packages/BayesSpace git_branch: devel git_last_commit: 47c1795 git_last_commit_date: 2025-10-29 11:03:05 -0400 (Wed, 29 Oct 2025)