Package: BayesKnockdown Version: 1.37.0 Command: /Library/Frameworks/R.framework/Resources/bin/R CMD INSTALL BayesKnockdown StartedAt: 2025-11-20 15:06:48 -0500 (Thu, 20 Nov 2025) EndedAt: 2025-11-20 15:06:50 -0500 (Thu, 20 Nov 2025) EllapsedTime: 1.7 seconds RetCode: 0 Status: OK