Package: BayesKnockdown Version: 1.37.0 Command: /Library/Frameworks/R.framework/Resources/bin/R CMD build --keep-empty-dirs --no-resave-data BayesKnockdown StartedAt: 2025-11-20 15:42:16 -0500 (Thu, 20 Nov 2025) EndedAt: 2025-11-20 15:42:21 -0500 (Thu, 20 Nov 2025) EllapsedTime: 5.1 seconds RetCode: 0 Status: OK PackageFile: BayesKnockdown_1.37.0.tar.gz PackageFileSize: 211.7 KiB