Package: BayesKnockdown Version: 1.37.0 Command: rm -rf BayesKnockdown.buildbin-libdir && mkdir BayesKnockdown.buildbin-libdir && /Users/biocbuild/BBS/utils/build-universal.sh BayesKnockdown_1.37.0.tar.gz /Library/Frameworks/R.framework/Resources/bin/R BayesKnockdown.buildbin-libdir StartedAt: 2025-11-21 23:23:09 -0500 (Fri, 21 Nov 2025) EndedAt: 2025-11-21 23:23:12 -0500 (Fri, 21 Nov 2025) EllapsedTime: 3.0 seconds RetCode: 0 Status: OK PackageFile: BayesKnockdown_1.37.0.tgz PackageFileSize: 226.8 KiB