Package: BatchSVG Version: 1.1.0 Command: /home/biocbuild/R/R/bin/R CMD INSTALL BatchSVG StartedAt: 2025-10-02 21:23:26 -0000 (Thu, 02 Oct 2025) EndedAt: 2025-10-02 21:24:01 -0000 (Thu, 02 Oct 2025) EllapsedTime: 35.6 seconds RetCode: 0 Status: OK