Package: BatchSVG Version: 1.1.0 Command: /home/biocbuild/R/R/bin/R CMD build --keep-empty-dirs --no-resave-data BatchSVG StartedAt: 2025-10-02 22:05:13 -0000 (Thu, 02 Oct 2025) EndedAt: 2025-10-02 22:17:52 -0000 (Thu, 02 Oct 2025) EllapsedTime: 758.2 seconds RetCode: 0 Status: OK PackageFile: BatchSVG_1.1.0.tar.gz PackageFileSize: 1.041 MiB