Package: BatchSVG Version: 1.1.0 Command: chmod a+r BatchSVG -R && F:\biocbuild\bbs-3.22-bioc\R\bin\R.exe CMD build --keep-empty-dirs --no-resave-data BatchSVG StartedAt: 2025-08-14 18:34:50 -0400 (Thu, 14 Aug 2025) EndedAt: 2025-08-14 18:38:58 -0400 (Thu, 14 Aug 2025) EllapsedTime: 247.1 seconds RetCode: 0 Status: OK PackageFile: BatchSVG_1.1.0.tar.gz PackageFileSize: 1.067 MiB