Package: BatchSVG Version: 1.1.0 Command: rm -rf BatchSVG.buildbin-libdir && mkdir BatchSVG.buildbin-libdir && F:\biocbuild\bbs-3.22-bioc\R\bin\R.exe CMD INSTALL --build --library=BatchSVG.buildbin-libdir BatchSVG_1.1.0.tar.gz StartedAt: 2025-08-15 09:46:46 -0400 (Fri, 15 Aug 2025) EndedAt: 2025-08-15 09:47:27 -0400 (Fri, 15 Aug 2025) EllapsedTime: 41.5 seconds RetCode: 0 Status: OK PackageFile: BatchSVG_1.1.0.zip PackageFileSize: 1.092 MiB