Package: BatchSVG Version: 1.3.0 Command: /home/biocbuild/bbs-3.23-bioc/R/bin/R CMD check --install=check:BatchSVG.install-out.txt --library=/home/biocbuild/bbs-3.23-bioc/R/site-library --timings BatchSVG_1.3.0.tar.gz StartedAt: 2025-10-31 21:19:10 -0400 (Fri, 31 Oct 2025) EndedAt: 2025-10-31 21:28:55 -0400 (Fri, 31 Oct 2025) EllapsedTime: 584.8 seconds RetCode: 0 Status: OK CheckDir: BatchSVG.Rcheck Warnings: 0