Package: BatchSVG Version: 1.3.0 Command: /home/biocbuild/bbs-3.23-bioc/R/bin/R CMD build --keep-empty-dirs --no-resave-data BatchSVG StartedAt: 2025-10-31 16:36:47 -0400 (Fri, 31 Oct 2025) EndedAt: 2025-10-31 16:39:38 -0400 (Fri, 31 Oct 2025) EllapsedTime: 171.1 seconds RetCode: 0 Status: OK PackageFile: BatchSVG_1.3.0.tar.gz PackageFileSize: 1.545 MiB