Package: BatchQC Version: 2.5.13 Command: /home/biocbuild/R/R/bin/R CMD INSTALL BatchQC StartedAt: 2025-10-13 21:45:53 -0000 (Mon, 13 Oct 2025) EndedAt: 2025-10-13 21:46:44 -0000 (Mon, 13 Oct 2025) EllapsedTime: 51.1 seconds RetCode: 0 Status: OK