Package: BatchQC Version: 2.5.13 Command: /home/biocbuild/R/R/bin/R CMD build --keep-empty-dirs --no-resave-data BatchQC StartedAt: 2025-10-13 22:25:08 -0000 (Mon, 13 Oct 2025) EndedAt: 2025-10-13 22:40:35 -0000 (Mon, 13 Oct 2025) EllapsedTime: 927.3 seconds RetCode: 0 Status: OK PackageFile: BatchQC_2.5.13.tar.gz PackageFileSize: 4.035 MiB