Package: BatchQC Version: 2.5.0 Command: F:\biocbuild\bbs-3.22-bioc\R\bin\R.exe CMD INSTALL BatchQC StartedAt: 2025-08-14 17:00:25 -0400 (Thu, 14 Aug 2025) EndedAt: 2025-08-14 17:01:38 -0400 (Thu, 14 Aug 2025) EllapsedTime: 73.0 seconds RetCode: 0 Status: OK