Package: BasicSTARRseq Version: 1.39.0 Command: /home/biocbuild/bbs-3.23-bioc/R/bin/R CMD INSTALL BasicSTARRseq StartedAt: 2025-11-04 15:24:25 -0500 (Tue, 04 Nov 2025) EndedAt: 2025-11-04 15:24:51 -0500 (Tue, 04 Nov 2025) EllapsedTime: 26.8 seconds RetCode: 0 Status: OK