Package: BasicSTARRseq Version: 1.39.0 Command: /home/biocbuild/bbs-3.23-bioc/R/bin/R CMD build --keep-empty-dirs --no-resave-data BasicSTARRseq StartedAt: 2025-11-04 16:18:06 -0500 (Tue, 04 Nov 2025) EndedAt: 2025-11-04 16:18:44 -0500 (Tue, 04 Nov 2025) EllapsedTime: 38.0 seconds RetCode: 0 Status: OK PackageFile: BasicSTARRseq_1.39.0.tar.gz PackageFileSize: 552.4 KiB