Package: Basic4Cseq Version: 1.45.1 Command: /home/biocbuild/bbs-3.22-bioc/R/bin/R CMD INSTALL Basic4Cseq StartedAt: 2025-10-14 15:32:59 -0400 (Tue, 14 Oct 2025) EndedAt: 2025-10-14 15:33:33 -0400 (Tue, 14 Oct 2025) EllapsedTime: 34.0 seconds RetCode: 0 Status: OK