Package: Basic4Cseq Version: 1.45.1 Command: /home/biocbuild/bbs-3.22-bioc/R/bin/R CMD build --keep-empty-dirs --no-resave-data --md5 Basic4Cseq StartedAt: 2025-10-14 16:18:42 -0400 (Tue, 14 Oct 2025) EndedAt: 2025-10-14 16:19:41 -0400 (Tue, 14 Oct 2025) EllapsedTime: 59.0 seconds RetCode: 0 Status: OK PackageFile: Basic4Cseq_1.45.1.tar.gz PackageFileSize: 387.1 KiB