Package: Basic4Cseq Version: 1.47.0 Command: /home/biocbuild/bbs-3.23-bioc/R/bin/R CMD check --install=check:Basic4Cseq.install-out.txt --library=/home/biocbuild/bbs-3.23-bioc/R/site-library --timings Basic4Cseq_1.47.0.tar.gz StartedAt: 2025-11-05 21:13:21 -0500 (Wed, 05 Nov 2025) EndedAt: 2025-11-05 21:17:22 -0500 (Wed, 05 Nov 2025) EllapsedTime: 241.2 seconds RetCode: 0 Status: OK CheckDir: Basic4Cseq.Rcheck Warnings: 0