Package: Basic4Cseq Version: 1.47.0 Command: /home/biocbuild/bbs-3.23-bioc/R/bin/R CMD build --keep-empty-dirs --no-resave-data Basic4Cseq StartedAt: 2025-11-04 16:17:09 -0500 (Tue, 04 Nov 2025) EndedAt: 2025-11-04 16:18:04 -0500 (Tue, 04 Nov 2025) EllapsedTime: 55.0 seconds RetCode: 0 Status: OK PackageFile: Basic4Cseq_1.47.0.tar.gz PackageFileSize: 384.5 KiB