Package: Basic4Cseq Version: 1.45.1 Command: /Library/Frameworks/R.framework/Resources/bin/R CMD check --install=check:Basic4Cseq.install-out.txt --library=/Library/Frameworks/R.framework/Resources/library --no-vignettes --timings Basic4Cseq_1.45.1.tar.gz StartedAt: 2025-10-22 18:35:36 -0400 (Wed, 22 Oct 2025) EndedAt: 2025-10-22 18:37:10 -0400 (Wed, 22 Oct 2025) EllapsedTime: 94.1 seconds RetCode: 0 Status: OK CheckDir: Basic4Cseq.Rcheck Warnings: 0