Package: Basic4Cseq Version: 1.45.1 Command: rm -rf Basic4Cseq.buildbin-libdir && mkdir Basic4Cseq.buildbin-libdir && /Users/biocbuild/BBS/utils/build-universal.sh Basic4Cseq_1.45.1.tar.gz /Library/Frameworks/R.framework/Resources/bin/R Basic4Cseq.buildbin-libdir StartedAt: 2025-10-15 22:37:41 -0400 (Wed, 15 Oct 2025) EndedAt: 2025-10-15 22:37:56 -0400 (Wed, 15 Oct 2025) EllapsedTime: 15.3 seconds RetCode: 0 Status: OK PackageFile: Basic4Cseq_1.45.1.tgz PackageFileSize: 779.7 KiB