Package: BaseSpaceR Version: 1.53.0 Command: /home/biocbuild/bbs-3.22-bioc/R/bin/R CMD check --install=check:BaseSpaceR.install-out.txt --library=/home/biocbuild/bbs-3.22-bioc/R/site-library --timings BaseSpaceR_1.53.0.tar.gz StartedAt: 2025-09-29 21:30:41 -0400 (Mon, 29 Sep 2025) EndedAt: 2025-09-29 21:31:25 -0400 (Mon, 29 Sep 2025) EllapsedTime: 44.0 seconds RetCode: 0 Status: WARNINGS CheckDir: BaseSpaceR.Rcheck Warnings: 1