Package: BaseSpaceR Version: 1.55.0 Command: /home/biocbuild/bbs-3.23-bioc/R/bin/R CMD INSTALL BaseSpaceR StartedAt: 2025-11-21 15:04:15 -0500 (Fri, 21 Nov 2025) EndedAt: 2025-11-21 15:04:29 -0500 (Fri, 21 Nov 2025) EllapsedTime: 13.3 seconds RetCode: 0 Status: OK