Package: BaseSpaceR Version: 1.55.0 Command: /home/biocbuild/bbs-3.23-bioc/R/bin/R CMD check --install=check:BaseSpaceR.install-out.txt --library=/home/biocbuild/bbs-3.23-bioc/R/site-library --timings BaseSpaceR_1.55.0.tar.gz StartedAt: 2025-11-21 21:14:39 -0500 (Fri, 21 Nov 2025) EndedAt: 2025-11-21 21:15:26 -0500 (Fri, 21 Nov 2025) EllapsedTime: 46.0 seconds RetCode: 0 Status: WARNINGS CheckDir: BaseSpaceR.Rcheck Warnings: 1