Package: BaseSpaceR Version: 1.55.0 Command: /home/biocbuild/bbs-3.23-bioc/R/bin/R CMD build --keep-empty-dirs --no-resave-data BaseSpaceR StartedAt: 2025-11-21 16:19:07 -0500 (Fri, 21 Nov 2025) EndedAt: 2025-11-21 16:19:20 -0500 (Fri, 21 Nov 2025) EllapsedTime: 13.0 seconds RetCode: 0 Status: OK PackageFile: BaseSpaceR_1.55.0.tar.gz PackageFileSize: 580.9 KiB