Package: Banksy Version: 1.7.0 Command: /home/biocbuild/bbs-3.23-bioc/R/bin/R CMD build --keep-empty-dirs --no-resave-data Banksy StartedAt: 2025-11-20 16:18:00 -0500 (Thu, 20 Nov 2025) EndedAt: 2025-11-20 16:24:28 -0500 (Thu, 20 Nov 2025) EllapsedTime: 387.3 seconds RetCode: 0 Status: OK PackageFile: Banksy_1.7.0.tar.gz PackageFileSize: 5.014 MiB