Package: Banksy Version: 1.5.10 Command: /Library/Frameworks/R.framework/Resources/bin/R CMD INSTALL Banksy StartedAt: 2025-10-17 15:12:44 -0400 (Fri, 17 Oct 2025) EndedAt: 2025-10-17 15:12:56 -0400 (Fri, 17 Oct 2025) EllapsedTime: 11.1 seconds RetCode: 0 Status: OK