Package: Banksy Version: 1.5.10 Command: rm -rf Banksy.buildbin-libdir && mkdir Banksy.buildbin-libdir && /Users/biocbuild/BBS/utils/build-universal.sh Banksy_1.5.10.tar.gz /Library/Frameworks/R.framework/Resources/bin/R Banksy.buildbin-libdir StartedAt: 2025-10-17 22:59:42 -0400 (Fri, 17 Oct 2025) EndedAt: 2025-10-17 22:59:54 -0400 (Fri, 17 Oct 2025) EllapsedTime: 12.2 seconds RetCode: 0 Status: OK PackageFile: Banksy_1.5.10.tgz PackageFileSize: 4.264 MiB