Package: BadRegionFinder Version: 1.37.0 Command: /Library/Frameworks/R.framework/Resources/bin/R CMD INSTALL BadRegionFinder StartedAt: 2025-10-10 15:44:12 -0400 (Fri, 10 Oct 2025) EndedAt: 2025-10-10 15:45:07 -0400 (Fri, 10 Oct 2025) EllapsedTime: 54.4 seconds RetCode: 0 Status: OK