Package: BadRegionFinder Version: 1.37.0 Command: /Library/Frameworks/R.framework/Resources/bin/R CMD build --keep-empty-dirs --no-resave-data BadRegionFinder StartedAt: 2025-10-10 16:08:57 -0400 (Fri, 10 Oct 2025) EndedAt: 2025-10-10 16:10:43 -0400 (Fri, 10 Oct 2025) EllapsedTime: 106.4 seconds RetCode: 0 Status: OK PackageFile: BadRegionFinder_1.37.0.tar.gz PackageFileSize: 831.8 KiB