Package: BadRegionFinder Version: 1.37.0 Command: rm -rf BadRegionFinder.buildbin-libdir && mkdir BadRegionFinder.buildbin-libdir && /Users/biocbuild/BBS/utils/build-universal.sh BadRegionFinder_1.37.0.tar.gz /Library/Frameworks/R.framework/Resources/bin/R BadRegionFinder.buildbin-libdir StartedAt: 2025-10-13 02:20:59 -0400 (Mon, 13 Oct 2025) EndedAt: 2025-10-13 02:21:58 -0400 (Mon, 13 Oct 2025) EllapsedTime: 58.9 seconds RetCode: 0 Status: OK PackageFile: BadRegionFinder_1.37.0.tgz PackageFileSize: 927.8 KiB