Package: BaalChIP Version: 1.35.0 Command: /home/biocbuild/bbs-3.22-bioc/R/bin/R CMD check --install=check:BaalChIP.install-out.txt --library=/home/biocbuild/bbs-3.22-bioc/R/site-library --timings BaalChIP_1.35.0.tar.gz StartedAt: 2025-10-21 21:11:28 -0400 (Tue, 21 Oct 2025) EndedAt: 2025-10-21 21:21:38 -0400 (Tue, 21 Oct 2025) EllapsedTime: 609.9 seconds RetCode: 0 Status: WARNINGS CheckDir: BaalChIP.Rcheck Warnings: 1