Package: BaalChIP Version: 1.37.0 Command: /home/biocbuild/bbs-3.23-bioc/R/bin/R CMD INSTALL BaalChIP StartedAt: 2025-11-27 15:24:43 -0500 (Thu, 27 Nov 2025) EndedAt: 2025-11-27 15:25:48 -0500 (Thu, 27 Nov 2025) EllapsedTime: 65.2 seconds RetCode: 0 Status: OK