Package: BaalChIP Version: 1.37.0 Command: /home/biocbuild/bbs-3.23-bioc/R/bin/R CMD build --keep-empty-dirs --no-resave-data BaalChIP StartedAt: 2025-11-27 16:16:12 -0500 (Thu, 27 Nov 2025) EndedAt: 2025-11-27 16:18:19 -0500 (Thu, 27 Nov 2025) EllapsedTime: 127.1 seconds RetCode: 0 Status: OK PackageFile: BaalChIP_1.37.0.tar.gz PackageFileSize: 45.23 MiB