Package: BaalChIP Version: 1.35.0 Command: /Library/Frameworks/R.framework/Resources/bin/R CMD INSTALL BaalChIP StartedAt: 2025-10-01 15:27:19 -0400 (Wed, 01 Oct 2025) EndedAt: 2025-10-01 15:28:45 -0400 (Wed, 01 Oct 2025) EllapsedTime: 85.8 seconds RetCode: 0 Status: OK